BEGIN:VCALENDAR
VERSION:2.0
PRODID:-//Educalidad - ECPv6.15.20//NONSGML v1.0//EN
CALSCALE:GREGORIAN
METHOD:PUBLISH
X-WR-CALNAME:Educalidad
X-ORIGINAL-URL:https://educalidad.com
X-WR-CALDESC:Eventos para Educalidad
REFRESH-INTERVAL;VALUE=DURATION:PT1H
X-Robots-Tag:noindex
X-PUBLISHED-TTL:PT1H
BEGIN:VTIMEZONE
TZID:America/Bogota
BEGIN:STANDARD
TZOFFSETFROM:-0500
TZOFFSETTO:-0500
TZNAME:-05
DTSTART:20250101T000000
END:STANDARD
END:VTIMEZONE
BEGIN:VEVENT
DTSTART;TZID=America/Bogota:20260422T080000
DTEND;TZID=America/Bogota:20260503T170000
DTSTAMP:20260420T173343
CREATED:20260420T163151Z
LAST-MODIFIED:20260420T163328Z
UID:15954-1776844800-1777827600@educalidad.com
SUMMARY:Educalidad y PERAMI llegan a la FILBo 2026 con periodismo escolar en acción
DESCRIPTION:Con cinco experiencias imperdibles\, el periodismo escolar tendrá un lugar especial en la Feria Internacional del Libro de Bogotá (FILBo) 2026. En estos escenarios\, Educalidad presentará una propuesta basada en su programa de formación PERAMI. Será una experiencia viva donde niñas\, niños y adolescentes escuchan\, interpretan y narran sus realidades. \n\n\n\nLos días 22\, 24\, 27 y 29 de abril\, y 3 de mayo\, estudiantes vinculados a PERAMI (Periodismo Escolar Restaurativo y Alfabetización Mediática e Informacional) estarán en distintos espacios de la Feria desarrollando actividades de reportería\, diálogo y actividades lúdicas con estudiantes asistentes a la Filbo.  \n\n\n\nEn estos encuentros\, Educalidad propone espacios donde la comunicación permite comprender mejor lo que viven niñas\, niños y adolescentes en sus entornos\, incluidos los digitales. \n\n\n\nTe puede interesar: https://educalidad.com/programa-perami
URL:https://educalidad.com/evento/educalidad-y-perami-llegan-a-la-filbo-2026-con-periodismo-escolar-en-accion
ATTACH;FMTTYPE=image/jpeg:https://educalidad.com/wp-content/uploads/2026/04/HOME-1.jpg
END:VEVENT
END:VCALENDAR